BEGIN:VCALENDAR
VERSION:2.0
PRODID:-//Physio Academy
CALSCALE:GREGORIAN
METHOD:PUBLISH
X-WR-CALNAME:Physio Academy
X-ORIGINAL-URL:https://www.fisio.cr/producto/curso-mulligans/
X-WR-CALDESC:Curso Mulligan
BEGIN:VEVENT
DTSTART;TZID=Europe/London:20260224T080000
DTEND;TZID=Europe/London:20260227T180000
SUMMARY:Curso Mulligan
DESCRIPTION:750$ si reservas antes 30 de noviembre. 800$ si reservas después 30 de noviembre. Costo de la reserva: 200$ Recuerden la obligación de remitir sus comprobantes de depósito al correo cfisio84@gmail.con Reservas en las cuentas a nombre de Physio Academy cedula Jurídica 3-101-744763: Banco Scotiabank. Número IBAN: CR84012300130012020022 Banco BAC Número IBAN: CR90010200009334093368 En el curso se entregará a cada estudiante una manual con un dossier de apuntes. En curso del cuadrante superior/ inferior, se entregará a cada alumno una cincha de tratamiento. (1 incluida) La formación completa en el Concepto Mulligan se desarrolla en 4 días de 9 horas cada día. El curso es eminentemente práctico y está fundamentado en evidencia científica. SE OTORGARÁ: Título oficial del concepto Mulligan cuadrante superior/ inferior. Curso reconocido a nivel internacional por la Mulligan Concept Teacher's Association. (www.bmulligan.)
URL:https://www.fisio.cr/producto/curso-mulligans/
LOCATION:
END:VEVENT
END:VCALENDAR
