BEGIN:VCALENDAR
VERSION:2.0
PRODID:-//Physio Academy
CALSCALE:GREGORIAN
METHOD:PUBLISH
X-WR-CALNAME:Physio Academy
X-ORIGINAL-URL:https://www.fisio.cr/producto/parte-a-la-columna-lumbar/
X-WR-CALDESC:Parte A &#8211; La Columna Lumbar
BEGIN:VEVENT
DTSTART;TZID=Europe/London:20241212T080000
DTEND;TZID=Europe/London:20241215T140000
SUMMARY:Parte A – La Columna Lumbar
DESCRIPTION:
URL:https://www.fisio.cr/producto/parte-a-la-columna-lumbar/
LOCATION:
END:VEVENT
END:VCALENDAR
