BEGIN:VCALENDAR
VERSION:2.0
PRODID:-//Physio Academy
CALSCALE:GREGORIAN
METHOD:PUBLISH
X-WR-CALNAME:Physio Academy
X-ORIGINAL-URL:https://www.fisio.cr/producto/rehabilitacion-del-hombro/
X-WR-CALDESC:REHABILITACIÓN DEL HOMBRO
BEGIN:VEVENT
DTSTART;TZID=Europe/London:20260129T000000
DTEND;TZID=Europe/London:20260201T000000
SUMMARY:REHABILITACIÓN DEL HOMBRO
DESCRIPTION:REHABILITACIÓN DEL HOMBRO: ¿QUÉ HAY DE NUEVO DESDE EL PUNTO DE VISTA CIENTÍFICO Y CLÍNICO? NIVEL 1 ANN COOLS, PT, PhD El objetivo del día 1 y 2 es actualizar los conocimientos y las habilidades prácticas con respecto a la rehabilitación del hombro, debatiendo los trastornos más comunes del hombro como los trastornos del manguito rotador, la inestabilidad traumática y atraumática, la rigidez del hombro, la participación de la escápula, el dolor de hombro específico del deporte, etc. La base teórica se actualiza sobre la base de la literatura reciente y se aplica inmediatamente en la práctica. Realizamos un examen clínico basado en los principios de la práctica basada en la evidencia, incluyendo la evidencia científica y la experiencia clínica. Se discuten críticamente varios enfoques del examen clínico. Durante la parte de rehabilitación de este curso, los principios generales de razonamiento clínico. NIVEL 2 El objetivo del día 3 y 4 es proporcionar conocimientos teóricos adicionales, procesos de razonamiento clínico y habilidades prácticas en la rehabilitación del hombro, aportando una actualización, así como una ampliación de los conocimientos existentes, cubiertos en el curso de nivel 1. En particular, los objetivos son dobles: el primer objetivo es discutir y practicar en detalle el papel de la escápula en la evaluación y rehabilitación del dolor de hombro. Además, se tratan algunas patologías específicas que no se trataron en profundidad en el curso de nivel 1. Se introducen mediciones objetivas de las variables del hombro y pruebas funcionales, con un vínculo a los criterios de vuelta a la actividad/deporte después de una lesión. Este curso avanzado se basa en la ciencia, pero también ofrece múltiples oportunidades prácticas, con un examen clínico completo como base para los procesos de toma de decisiones terapéuticas. Este curso es un curso de nivel 2, que amplía los conocimientos y habilidades dentro del área de la rehabilitación del hombro más allá de los temas tratados en el curso de nivel 1. Al finalizar este curso, el participante habrá alcanzado las siguientes competencias: - El participante tiene conocimientos actualizados sobre los trastornos más comunes de la musculatura escapular, incluyendo la tendinopatía del manguito rotador, las roturas del manguito rotador, la inestabilidad traumática, atraumática y adquirida del hombro, la discinesia escapular, el hombro deportivo y el dolor de hombro relacionado con los lanzamientos. - El participante puede aplicar principios de razonamiento clínico y algoritmos para el examen clínico funcional de la zona escapular. - El participante puede aplicar principios de razonamiento clínico y algoritmos para el tratamiento de las patologías más comunes del hombro. - El participante puede conceptualizar, organizar, realizar, reflexionar críticamente y remediar un programa de tratamiento progresivo para el paciente con dolor de hombro. - El participante realiza todas las habilidades y ejercicios, comprendidos en el curso, durante las sesiones prácticas del curso - El participante puede discutir críticamente los principios de examen y tratamiento con el profesor del curso y sus compañeros durante las sesiones interactivas. - El participante dispone de conocimientos actualizados sobre la biomecánica avanzada de la función escapulotorácica, la patomecánica de los desgarros del manguito de los rotadores y la inestabilidad atraumática (actualización del contenido del curso de nivel 1). - El participante puede aplicar principios de razonamiento clínico y realizar mediciones analíticas específicas (ROM, fuerza isométrica, longitud del pectoral menor, posición escapular) como complemento al examen clínico de la cintura escapular - El participante es capaz de utilizar la base científica para el enfoque de retorno al juego basado en decisiones, utilizando valores de referencia y pruebas RTP fiables y válidas. - El participante es capaz de aplicar los principios y algoritmos del razonamiento clínico para el tratamiento de la disfunción escapular, los trastornos relacionados con el bíceps y el abordaje conservador de las roturas degenerativas del manguito rotador (mejora del nivel de contenido 1) - El participante puede conceptualizar, organizar, realizar, reflexionar críticamente y remediar un programa de tratamiento progresivo para el paciente con dolor de hombro. - El participante realiza todas las habilidades y ejercicios, comprendidos en el curso, durante las sesiones prácticas del curso - El participante puede discutir críticamente los principios de examen y tratamiento con el profesor del curso y sus compañeros durante las sesiones interactivas. - el participante puede integrar conocimientos científicos recientes (proporcionados por artículos científicos) en el proceso de razonamiento clínico de la exploración y rehabilitación del hombro Perfil de la instructora Ann Cools es fisioterapeuta y trabaja como profesora asociada en el Departamento de Ciencias de la Rehabilitación y Fisioterapia de la Universidad de Gante, Bélgica. Su tema de investigación y experiencia docente, es la rehabilitación del hombro en general, y el enfoque específico del deporte y la afectación escapular en particular. Además de su trabajo académico, dirige una clínica de hombro en una consulta privada. Terminó su doctorado en 2003, debatiendo sobre la implicación escapular en el dolor de hombro relacionado con el deporte en el atleta que se eleva por encima de la cabeza, y ha publicado numerosos artículos en revistas internacionales revisadas por pares, ha escrito contribuciones y capítulos en varios libros reconocidos internacionalmente, e imparte cursos a nivel nacional e internacional. Fue jefa de Educación en Fisioterapia en la Universidad de Ghent entre 2008 y 2016, y miembro fundador y presidenta de la Sociedad Europea de Rehabilitación de Hombro y Codo (EUSSER) entre 2008 y 2012. Desde 2016, también está afiliada como investigadora principal al Departamento de Fisioterapia del Hospital Bispebjerg y al Departamento de Medicina Deportiva de la Universidad de Copenhague, Dinamarca. Actualmente es miembro de la Junta del Congreso Internacional de Terapeutas de Hombro y Codo, que organiza el congreso mundial trianual para terapeutas de hombro y codo, y es miembro fundador de la Junta de la Red Flemish de Hombro. Inversión $750 Reserva con $100 Lugar: USP Santa Paula Horario: de 9:00 am a 5:00 pm Transferencia o depósito Banco Scotiabank CR84012300130012020022 Physio Academy Banco BAC CR90010200009334093368 Physio Academy Poner su nombre y el nombre del curso en el detalle. Enviar comprobante de pago a cfisio84@gmail.com para que su reserva quede en firme.
URL:https://www.fisio.cr/producto/rehabilitacion-del-hombro/
LOCATION:
END:VEVENT
END:VCALENDAR
