BEGIN:VCALENDAR
VERSION:2.0
PRODID:-//Physio Academy
CALSCALE:GREGORIAN
METHOD:PUBLISH
X-WR-CALNAME:Physio Academy
X-ORIGINAL-URL:https://www.fisio.cr/producto/parte-c-la-columna-lumbar-y-extremidades-eeii/
X-WR-CALDESC:Parte C &#8211; La Columna Lumbar y Extremidades &#8211; EEII
BEGIN:VEVENT
DTSTART;TZID=Europe/London:20251210T080000
DTEND;TZID=Europe/London:20251213T170000
SUMMARY:Parte C – La Columna Lumbar y Extremidades – EEII
DESCRIPTION:El Método McKenzie® de Diagnóstico y Terapia Mecánica - MDT® Esta filosofía de tratamiento involucra al paciente de una forma activa, lo utilizan fisioterapeutas de todo el mundo para la evaluación, tratamiento, educación y promoción del aprendizaje a los pacientes con patologías lumbares, cervicales y extremidades dándoles las pautas necesarias para su autotratamiento. Parte C - Nivel Avanzado Columna Lumbar y Extremidades – EEII Resumen del Curso En este curso se revisará y avanzará en la teoría y en la aplicación de MDT en relación a la Columna Lumbar.  Utilizaremos la resolución de problemas, el aprendizaje reflexivo y el razonamiento clínico para mejorar la evaluación, clasificación, diagnóstico diferencial y tratamiento de los pacientes que se presentan con síntomas relacionados con la columna lumbar. Las sesiones prácticas se utilizarán para desarrollar habilidades en la aplicación tanto de autotratamiento como de los procedimientos clínicos. Se presentará la teoría y la aplicación práctica de MDT para problemas músculo-esqueléticos de la extremidad inferior. Para demostrar las características y el tratamiento de los síndromes que se presentan en las extremidades inferiores utilizaremos las clases teóricas, la evaluación de pacientes y las sesiones prácticas. Objetivos del Curso Siguiendo de forma atenta y completa el curso los participantes obtendrán el conocimiento y las habilidades básicas para empezar a: Identificar y comentar los problemas comunes que encontramos en la aplicación de MDT para la columna lumbar. Analizar y comentar la evaluación de MDT y como nos ayuda en la clasificación del paciente. Comentar la aplicación de la fuerza del fisioterapeuta y cómo encaja con el concepto de progresión de fuerzas del método McKenzie. Aplicar las fuerzas del fisioterapeuta en la columna lumbar en un nivel avanzado e identificar problemas con su aplicación. Analizar los casos clínicos que se presentan con problemas de la columna lumbar y determinar su clasificación. Describir y comentar la actual evidencia científica en la que se base el uso de MDT para patologías musculo esqueléticas de la extremidad inferior. Describir las características de Derangement, Disfunción y Síndrome Postural y su presentación en patologías musculo esqueléticas de la extremidad inferior. Rellenar las hojas de evaluación de MDT para patologías musculo esqueléticas de la extremidad inferior y determinar la presencia de síndrome McKenzie. Diseñar un programa de tratamiento adecuado para pacientes que se presentan con Síndrome Derangement, Disfunción o Síndrome Postural de extremidad inferior. Analizar los casos prácticos de los pacientes que se presentan con síntomas de extremidades inferiores y determinar su clasificación. Ïndice de contenidos MÓDULO UNO:  Áreas problemáticas y solución de problemas MÓDULO DOS:  Valoración y diferenciación MÓDULO TRES:  Tratamiento de los síntomas MDT MÓDULO CUATRO:  Procedimientos de la Columna Lumbar MÓDULO CINCO:  Diagnóstico diferencial y subgrupos de otros. MÓDULO SEIS:  Casos clínicos MÓDULO SIETE:  Epidemiología/Evidencia para MDT  MÓDULO OCHO:  Características de los síndromes MDT MÓDULO NUEVE:  Valoración MÓDULO DIEZ:  Síndrome de Derangement  MÓDULO ONCE:  Síndrome de Disfunción MÓDULO DOCE:  Síndrome postural MÓDULO TRECE:  Subgrupos de otros MÓDULO CATORCE: Casos clínicos Requisitos Haber completado los siguientes cursos del Instituto McKenzie. Parte A: La Columna Lumbar; (obligatorio) Parte B: La Columna Cervical y Torácica (opcional) La Parte A debe hacerse en primer lugar y la parte D en último.  El orden para completar las Partes B y C dependerá de la decisión de cada alumno. Es un requisito completar todas las partes para realizar el Examen de Acreditación. Preparación para el Curso Se recomienda el estudio del manual de la Parte A. Se espera que los alumnos utilicen la terminología McKenzie que encontramos en las fichas de evaluación. &nbsp; El Profesor que estará a cargo del curso es el Sr. José Liberato Jr. Dip. MDT. Lugar: Universidad Santa Paula Horario será de 8:00 am a 5:00 pm. Inversión: $750 Reserva con $100 Banco Scotiabank cuenta en dólares a nombre de Physio Academy  CR77012300130012020051 &nbsp; Banco BAC San Jose cuenta en dólares a nombre de Physio Academy  CR90010200009334093368 &nbsp; Otras opciones de pago: tasa 0 a 3 y 6 meses con Credomatic  &nbsp; Poner su nombre y el nombre del curso en el detalle. Enviar comprobante de pago a cfisio84@gmail.com para que su reserva quede en firme.
URL:https://www.fisio.cr/producto/parte-c-la-columna-lumbar-y-extremidades-eeii/
LOCATION:
END:VEVENT
END:VCALENDAR
