BEGIN:VCALENDAR
VERSION:2.0
PRODID:-//Physio Academy
CALSCALE:GREGORIAN
METHOD:PUBLISH
X-WR-CALNAME:Physio Academy
X-ORIGINAL-URL:https://www.fisio.cr/producto/neurociencia-del-dolor-2/
X-WR-CALDESC:Neurociencia del dolor
BEGIN:VEVENT
DTSTART;TZID=Europe/London:20251002T000000
DTEND;TZID=Europe/London:20251003T000000
SUMMARY:Neurociencia del dolor
DESCRIPTION:Educación en Neurociencia del Dolor  A través de un enfoque actualizado, este curso tiene como objetivo demostrar cómo la terapia física puede ayudar a los pacientes que padecen varios estados de dolor, aparentemente incapacitantes, a recuperar su calidad de vida. Acerca del profesor el Dr. Emilio Puentedura Con más de 44 años de experiencia, es un experto en fisioterapia ortopédica y terapia manual. Se graduó en Fisioterapia en 1980 y obtuvo un Diploma en Terapia Manipulativa en 1983 en La Trobe University, Australia. Luego, se trasladó a EE. UU., donde obtuvo su doctorado en 2011. Ha sido profesor en la Universidad de Nevada en Las Vegas y ha publicado más de 100 artículos científicos. Sus áreas de investigación incluyen la educación en neurociencia del dolor, seguridad en terapia manual y punción. &nbsp; Lugar: Universidad Santa Paula Horario será de 8:00 am a 4:00 pm. Inversión: $300 Reserva con $100 Banco Scotiabank cuenta en dólares a nombre de Physio Academy  CR70012300130012020080 Banco BAC San Jose cuenta en dólares a nombre de Physio Academy  CR90010200009334093368 Otras opciones de pago: tasa 0 a 3 y 6 meses con Credomatic  &nbsp; Poner su nombre y el nombre del curso en el detalle. Enviar comprobante de pago a cfisio84@gmail.com para que su reserva quede en firme.
URL:https://www.fisio.cr/producto/neurociencia-del-dolor-2/
LOCATION:
END:VEVENT
END:VCALENDAR
